BEGIN:VCALENDAR
VERSION:2.0
PRODID:-//WestfordCAT - ECPv6.15.20//NONSGML v1.0//EN
CALSCALE:GREGORIAN
METHOD:PUBLISH
X-ORIGINAL-URL:https://westfordcat.org
X-WR-CALDESC:Events for WestfordCAT
REFRESH-INTERVAL;VALUE=DURATION:PT1H
X-Robots-Tag:noindex
X-PUBLISHED-TTL:PT1H
BEGIN:VTIMEZONE
TZID:America/New_York
BEGIN:DAYLIGHT
TZOFFSETFROM:-0500
TZOFFSETTO:-0400
TZNAME:EDT
DTSTART:20280312T070000
END:DAYLIGHT
BEGIN:STANDARD
TZOFFSETFROM:-0400
TZOFFSETTO:-0500
TZNAME:EST
DTSTART:20281105T060000
END:STANDARD
BEGIN:DAYLIGHT
TZOFFSETFROM:-0500
TZOFFSETTO:-0400
TZNAME:EDT
DTSTART:20290311T070000
END:DAYLIGHT
BEGIN:STANDARD
TZOFFSETFROM:-0400
TZOFFSETTO:-0500
TZNAME:EST
DTSTART:20291104T060000
END:STANDARD
BEGIN:DAYLIGHT
TZOFFSETFROM:-0500
TZOFFSETTO:-0400
TZNAME:EDT
DTSTART:20300310T070000
END:DAYLIGHT
BEGIN:STANDARD
TZOFFSETFROM:-0400
TZOFFSETTO:-0500
TZNAME:EST
DTSTART:20301103T060000
END:STANDARD
BEGIN:DAYLIGHT
TZOFFSETFROM:-0500
TZOFFSETTO:-0400
TZNAME:EDT
DTSTART:20310309T070000
END:DAYLIGHT
BEGIN:STANDARD
TZOFFSETFROM:-0400
TZOFFSETTO:-0500
TZNAME:EST
DTSTART:20311102T060000
END:STANDARD
END:VTIMEZONE
BEGIN:VEVENT
DTSTART;TZID=America/New_York:20291016T160000
DTEND;TZID=America/New_York:20291016T180000
DTSTAMP:20260421T041915
CREATED:20260304T211050Z
LAST-MODIFIED:20260304T211050Z
UID:10003104-1886860800-1886868000@westfordcat.org
SUMMARY:Video Club
DESCRIPTION:Once a week\, Video Club gives high school members the tools\, freedom\, and guidance to create original content from start to finish. Club members will have access to our studio\, podcasting suite\, and experienced staff to support their personal projects. No experience is needed\, just bring your ideas! Members can work independently or as a team to script\, shoot\, edit\, and share videos they’re proud of. If you have a vision\, this is the place to make it happen.
URL:https://westfordcat.org/event/video-club/2029-10-16/
LOCATION:WestfordCAT\, 487 Groton Rd\, Unit B\, Westford\, MA\, 01886\, United States
END:VEVENT
BEGIN:VEVENT
DTSTART;TZID=America/New_York:20291023T160000
DTEND;TZID=America/New_York:20291023T180000
DTSTAMP:20260421T041915
CREATED:20260304T211050Z
LAST-MODIFIED:20260304T211050Z
UID:10003105-1887465600-1887472800@westfordcat.org
SUMMARY:Video Club
DESCRIPTION:Once a week\, Video Club gives high school members the tools\, freedom\, and guidance to create original content from start to finish. Club members will have access to our studio\, podcasting suite\, and experienced staff to support their personal projects. No experience is needed\, just bring your ideas! Members can work independently or as a team to script\, shoot\, edit\, and share videos they’re proud of. If you have a vision\, this is the place to make it happen.
URL:https://westfordcat.org/event/video-club/2029-10-23/
LOCATION:WestfordCAT\, 487 Groton Rd\, Unit B\, Westford\, MA\, 01886\, United States
END:VEVENT
BEGIN:VEVENT
DTSTART;TZID=America/New_York:20291030T160000
DTEND;TZID=America/New_York:20291030T180000
DTSTAMP:20260421T041915
CREATED:20260304T211050Z
LAST-MODIFIED:20260304T211050Z
UID:10003106-1888070400-1888077600@westfordcat.org
SUMMARY:Video Club
DESCRIPTION:Once a week\, Video Club gives high school members the tools\, freedom\, and guidance to create original content from start to finish. Club members will have access to our studio\, podcasting suite\, and experienced staff to support their personal projects. No experience is needed\, just bring your ideas! Members can work independently or as a team to script\, shoot\, edit\, and share videos they’re proud of. If you have a vision\, this is the place to make it happen.
URL:https://westfordcat.org/event/video-club/2029-10-30/
LOCATION:WestfordCAT\, 487 Groton Rd\, Unit B\, Westford\, MA\, 01886\, United States
END:VEVENT
BEGIN:VEVENT
DTSTART;TZID=America/New_York:20291106T160000
DTEND;TZID=America/New_York:20291106T180000
DTSTAMP:20260421T041915
CREATED:20260304T211050Z
LAST-MODIFIED:20260304T211050Z
UID:10003107-1888675200-1888682400@westfordcat.org
SUMMARY:Video Club
DESCRIPTION:Once a week\, Video Club gives high school members the tools\, freedom\, and guidance to create original content from start to finish. Club members will have access to our studio\, podcasting suite\, and experienced staff to support their personal projects. No experience is needed\, just bring your ideas! Members can work independently or as a team to script\, shoot\, edit\, and share videos they’re proud of. If you have a vision\, this is the place to make it happen.
URL:https://westfordcat.org/event/video-club/2029-11-06/
LOCATION:WestfordCAT\, 487 Groton Rd\, Unit B\, Westford\, MA\, 01886\, United States
END:VEVENT
BEGIN:VEVENT
DTSTART;TZID=America/New_York:20291113T160000
DTEND;TZID=America/New_York:20291113T180000
DTSTAMP:20260421T041915
CREATED:20260304T211050Z
LAST-MODIFIED:20260304T211050Z
UID:10003108-1889280000-1889287200@westfordcat.org
SUMMARY:Video Club
DESCRIPTION:Once a week\, Video Club gives high school members the tools\, freedom\, and guidance to create original content from start to finish. Club members will have access to our studio\, podcasting suite\, and experienced staff to support their personal projects. No experience is needed\, just bring your ideas! Members can work independently or as a team to script\, shoot\, edit\, and share videos they’re proud of. If you have a vision\, this is the place to make it happen.
URL:https://westfordcat.org/event/video-club/2029-11-13/
LOCATION:WestfordCAT\, 487 Groton Rd\, Unit B\, Westford\, MA\, 01886\, United States
END:VEVENT
BEGIN:VEVENT
DTSTART;TZID=America/New_York:20291120T160000
DTEND;TZID=America/New_York:20291120T180000
DTSTAMP:20260421T041915
CREATED:20260304T211050Z
LAST-MODIFIED:20260304T211050Z
UID:10003109-1889884800-1889892000@westfordcat.org
SUMMARY:Video Club
DESCRIPTION:Once a week\, Video Club gives high school members the tools\, freedom\, and guidance to create original content from start to finish. Club members will have access to our studio\, podcasting suite\, and experienced staff to support their personal projects. No experience is needed\, just bring your ideas! Members can work independently or as a team to script\, shoot\, edit\, and share videos they’re proud of. If you have a vision\, this is the place to make it happen.
URL:https://westfordcat.org/event/video-club/2029-11-20/
LOCATION:WestfordCAT\, 487 Groton Rd\, Unit B\, Westford\, MA\, 01886\, United States
END:VEVENT
BEGIN:VEVENT
DTSTART;TZID=America/New_York:20291127T160000
DTEND;TZID=America/New_York:20291127T180000
DTSTAMP:20260421T041915
CREATED:20260304T211050Z
LAST-MODIFIED:20260304T211050Z
UID:10003110-1890489600-1890496800@westfordcat.org
SUMMARY:Video Club
DESCRIPTION:Once a week\, Video Club gives high school members the tools\, freedom\, and guidance to create original content from start to finish. Club members will have access to our studio\, podcasting suite\, and experienced staff to support their personal projects. No experience is needed\, just bring your ideas! Members can work independently or as a team to script\, shoot\, edit\, and share videos they’re proud of. If you have a vision\, this is the place to make it happen.
URL:https://westfordcat.org/event/video-club/2029-11-27/
LOCATION:WestfordCAT\, 487 Groton Rd\, Unit B\, Westford\, MA\, 01886\, United States
END:VEVENT
BEGIN:VEVENT
DTSTART;TZID=America/New_York:20291204T160000
DTEND;TZID=America/New_York:20291204T180000
DTSTAMP:20260421T041915
CREATED:20260304T211050Z
LAST-MODIFIED:20260304T211050Z
UID:10003111-1891094400-1891101600@westfordcat.org
SUMMARY:Video Club
DESCRIPTION:Once a week\, Video Club gives high school members the tools\, freedom\, and guidance to create original content from start to finish. Club members will have access to our studio\, podcasting suite\, and experienced staff to support their personal projects. No experience is needed\, just bring your ideas! Members can work independently or as a team to script\, shoot\, edit\, and share videos they’re proud of. If you have a vision\, this is the place to make it happen.
URL:https://westfordcat.org/event/video-club/2029-12-04/
LOCATION:WestfordCAT\, 487 Groton Rd\, Unit B\, Westford\, MA\, 01886\, United States
END:VEVENT
BEGIN:VEVENT
DTSTART;TZID=America/New_York:20291211T160000
DTEND;TZID=America/New_York:20291211T180000
DTSTAMP:20260421T041915
CREATED:20260304T211050Z
LAST-MODIFIED:20260304T211050Z
UID:10003112-1891699200-1891706400@westfordcat.org
SUMMARY:Video Club
DESCRIPTION:Once a week\, Video Club gives high school members the tools\, freedom\, and guidance to create original content from start to finish. Club members will have access to our studio\, podcasting suite\, and experienced staff to support their personal projects. No experience is needed\, just bring your ideas! Members can work independently or as a team to script\, shoot\, edit\, and share videos they’re proud of. If you have a vision\, this is the place to make it happen.
URL:https://westfordcat.org/event/video-club/2029-12-11/
LOCATION:WestfordCAT\, 487 Groton Rd\, Unit B\, Westford\, MA\, 01886\, United States
END:VEVENT
BEGIN:VEVENT
DTSTART;TZID=America/New_York:20291218T160000
DTEND;TZID=America/New_York:20291218T180000
DTSTAMP:20260421T041915
CREATED:20260304T211050Z
LAST-MODIFIED:20260304T211050Z
UID:10003113-1892304000-1892311200@westfordcat.org
SUMMARY:Video Club
DESCRIPTION:Once a week\, Video Club gives high school members the tools\, freedom\, and guidance to create original content from start to finish. Club members will have access to our studio\, podcasting suite\, and experienced staff to support their personal projects. No experience is needed\, just bring your ideas! Members can work independently or as a team to script\, shoot\, edit\, and share videos they’re proud of. If you have a vision\, this is the place to make it happen.
URL:https://westfordcat.org/event/video-club/2029-12-18/
LOCATION:WestfordCAT\, 487 Groton Rd\, Unit B\, Westford\, MA\, 01886\, United States
END:VEVENT
BEGIN:VEVENT
DTSTART;TZID=America/New_York:20291225T160000
DTEND;TZID=America/New_York:20291225T180000
DTSTAMP:20260421T041915
CREATED:20260304T211050Z
LAST-MODIFIED:20260304T211050Z
UID:10003114-1892908800-1892916000@westfordcat.org
SUMMARY:Video Club
DESCRIPTION:Once a week\, Video Club gives high school members the tools\, freedom\, and guidance to create original content from start to finish. Club members will have access to our studio\, podcasting suite\, and experienced staff to support their personal projects. No experience is needed\, just bring your ideas! Members can work independently or as a team to script\, shoot\, edit\, and share videos they’re proud of. If you have a vision\, this is the place to make it happen.
URL:https://westfordcat.org/event/video-club/2029-12-25/
LOCATION:WestfordCAT\, 487 Groton Rd\, Unit B\, Westford\, MA\, 01886\, United States
END:VEVENT
BEGIN:VEVENT
DTSTART;TZID=America/New_York:20300101T160000
DTEND;TZID=America/New_York:20300101T180000
DTSTAMP:20260421T041915
CREATED:20260304T211050Z
LAST-MODIFIED:20260304T211050Z
UID:10003115-1893513600-1893520800@westfordcat.org
SUMMARY:Video Club
DESCRIPTION:Once a week\, Video Club gives high school members the tools\, freedom\, and guidance to create original content from start to finish. Club members will have access to our studio\, podcasting suite\, and experienced staff to support their personal projects. No experience is needed\, just bring your ideas! Members can work independently or as a team to script\, shoot\, edit\, and share videos they’re proud of. If you have a vision\, this is the place to make it happen.
URL:https://westfordcat.org/event/video-club/2030-01-01/
LOCATION:WestfordCAT\, 487 Groton Rd\, Unit B\, Westford\, MA\, 01886\, United States
END:VEVENT
BEGIN:VEVENT
DTSTART;TZID=America/New_York:20300108T160000
DTEND;TZID=America/New_York:20300108T180000
DTSTAMP:20260421T041915
CREATED:20260304T211050Z
LAST-MODIFIED:20260304T211050Z
UID:10003116-1894118400-1894125600@westfordcat.org
SUMMARY:Video Club
DESCRIPTION:Once a week\, Video Club gives high school members the tools\, freedom\, and guidance to create original content from start to finish. Club members will have access to our studio\, podcasting suite\, and experienced staff to support their personal projects. No experience is needed\, just bring your ideas! Members can work independently or as a team to script\, shoot\, edit\, and share videos they’re proud of. If you have a vision\, this is the place to make it happen.
URL:https://westfordcat.org/event/video-club/2030-01-08/
LOCATION:WestfordCAT\, 487 Groton Rd\, Unit B\, Westford\, MA\, 01886\, United States
END:VEVENT
BEGIN:VEVENT
DTSTART;TZID=America/New_York:20300115T160000
DTEND;TZID=America/New_York:20300115T180000
DTSTAMP:20260421T041915
CREATED:20260304T211050Z
LAST-MODIFIED:20260304T211050Z
UID:10003117-1894723200-1894730400@westfordcat.org
SUMMARY:Video Club
DESCRIPTION:Once a week\, Video Club gives high school members the tools\, freedom\, and guidance to create original content from start to finish. Club members will have access to our studio\, podcasting suite\, and experienced staff to support their personal projects. No experience is needed\, just bring your ideas! Members can work independently or as a team to script\, shoot\, edit\, and share videos they’re proud of. If you have a vision\, this is the place to make it happen.
URL:https://westfordcat.org/event/video-club/2030-01-15/
LOCATION:WestfordCAT\, 487 Groton Rd\, Unit B\, Westford\, MA\, 01886\, United States
END:VEVENT
BEGIN:VEVENT
DTSTART;TZID=America/New_York:20300122T160000
DTEND;TZID=America/New_York:20300122T180000
DTSTAMP:20260421T041915
CREATED:20260304T211050Z
LAST-MODIFIED:20260304T211050Z
UID:10003118-1895328000-1895335200@westfordcat.org
SUMMARY:Video Club
DESCRIPTION:Once a week\, Video Club gives high school members the tools\, freedom\, and guidance to create original content from start to finish. Club members will have access to our studio\, podcasting suite\, and experienced staff to support their personal projects. No experience is needed\, just bring your ideas! Members can work independently or as a team to script\, shoot\, edit\, and share videos they’re proud of. If you have a vision\, this is the place to make it happen.
URL:https://westfordcat.org/event/video-club/2030-01-22/
LOCATION:WestfordCAT\, 487 Groton Rd\, Unit B\, Westford\, MA\, 01886\, United States
END:VEVENT
BEGIN:VEVENT
DTSTART;TZID=America/New_York:20300129T160000
DTEND;TZID=America/New_York:20300129T180000
DTSTAMP:20260421T041915
CREATED:20260304T211050Z
LAST-MODIFIED:20260304T211050Z
UID:10003119-1895932800-1895940000@westfordcat.org
SUMMARY:Video Club
DESCRIPTION:Once a week\, Video Club gives high school members the tools\, freedom\, and guidance to create original content from start to finish. Club members will have access to our studio\, podcasting suite\, and experienced staff to support their personal projects. No experience is needed\, just bring your ideas! Members can work independently or as a team to script\, shoot\, edit\, and share videos they’re proud of. If you have a vision\, this is the place to make it happen.
URL:https://westfordcat.org/event/video-club/2030-01-29/
LOCATION:WestfordCAT\, 487 Groton Rd\, Unit B\, Westford\, MA\, 01886\, United States
END:VEVENT
BEGIN:VEVENT
DTSTART;TZID=America/New_York:20300205T160000
DTEND;TZID=America/New_York:20300205T180000
DTSTAMP:20260421T041915
CREATED:20260304T211050Z
LAST-MODIFIED:20260304T211050Z
UID:10003120-1896537600-1896544800@westfordcat.org
SUMMARY:Video Club
DESCRIPTION:Once a week\, Video Club gives high school members the tools\, freedom\, and guidance to create original content from start to finish. Club members will have access to our studio\, podcasting suite\, and experienced staff to support their personal projects. No experience is needed\, just bring your ideas! Members can work independently or as a team to script\, shoot\, edit\, and share videos they’re proud of. If you have a vision\, this is the place to make it happen.
URL:https://westfordcat.org/event/video-club/2030-02-05/
LOCATION:WestfordCAT\, 487 Groton Rd\, Unit B\, Westford\, MA\, 01886\, United States
END:VEVENT
BEGIN:VEVENT
DTSTART;TZID=America/New_York:20300212T160000
DTEND;TZID=America/New_York:20300212T180000
DTSTAMP:20260421T041915
CREATED:20260304T211050Z
LAST-MODIFIED:20260304T211050Z
UID:10003121-1897142400-1897149600@westfordcat.org
SUMMARY:Video Club
DESCRIPTION:Once a week\, Video Club gives high school members the tools\, freedom\, and guidance to create original content from start to finish. Club members will have access to our studio\, podcasting suite\, and experienced staff to support their personal projects. No experience is needed\, just bring your ideas! Members can work independently or as a team to script\, shoot\, edit\, and share videos they’re proud of. If you have a vision\, this is the place to make it happen.
URL:https://westfordcat.org/event/video-club/2030-02-12/
LOCATION:WestfordCAT\, 487 Groton Rd\, Unit B\, Westford\, MA\, 01886\, United States
END:VEVENT
BEGIN:VEVENT
DTSTART;TZID=America/New_York:20300219T160000
DTEND;TZID=America/New_York:20300219T180000
DTSTAMP:20260421T041915
CREATED:20260304T211050Z
LAST-MODIFIED:20260304T211050Z
UID:10003122-1897747200-1897754400@westfordcat.org
SUMMARY:Video Club
DESCRIPTION:Once a week\, Video Club gives high school members the tools\, freedom\, and guidance to create original content from start to finish. Club members will have access to our studio\, podcasting suite\, and experienced staff to support their personal projects. No experience is needed\, just bring your ideas! Members can work independently or as a team to script\, shoot\, edit\, and share videos they’re proud of. If you have a vision\, this is the place to make it happen.
URL:https://westfordcat.org/event/video-club/2030-02-19/
LOCATION:WestfordCAT\, 487 Groton Rd\, Unit B\, Westford\, MA\, 01886\, United States
END:VEVENT
BEGIN:VEVENT
DTSTART;TZID=America/New_York:20300226T160000
DTEND;TZID=America/New_York:20300226T180000
DTSTAMP:20260421T041915
CREATED:20260304T211050Z
LAST-MODIFIED:20260304T211050Z
UID:10003123-1898352000-1898359200@westfordcat.org
SUMMARY:Video Club
DESCRIPTION:Once a week\, Video Club gives high school members the tools\, freedom\, and guidance to create original content from start to finish. Club members will have access to our studio\, podcasting suite\, and experienced staff to support their personal projects. No experience is needed\, just bring your ideas! Members can work independently or as a team to script\, shoot\, edit\, and share videos they’re proud of. If you have a vision\, this is the place to make it happen.
URL:https://westfordcat.org/event/video-club/2030-02-26/
LOCATION:WestfordCAT\, 487 Groton Rd\, Unit B\, Westford\, MA\, 01886\, United States
END:VEVENT
BEGIN:VEVENT
DTSTART;TZID=America/New_York:20300305T160000
DTEND;TZID=America/New_York:20300305T180000
DTSTAMP:20260421T041915
CREATED:20260304T211050Z
LAST-MODIFIED:20260304T211050Z
UID:10003124-1898956800-1898964000@westfordcat.org
SUMMARY:Video Club
DESCRIPTION:Once a week\, Video Club gives high school members the tools\, freedom\, and guidance to create original content from start to finish. Club members will have access to our studio\, podcasting suite\, and experienced staff to support their personal projects. No experience is needed\, just bring your ideas! Members can work independently or as a team to script\, shoot\, edit\, and share videos they’re proud of. If you have a vision\, this is the place to make it happen.
URL:https://westfordcat.org/event/video-club/2030-03-05/
LOCATION:WestfordCAT\, 487 Groton Rd\, Unit B\, Westford\, MA\, 01886\, United States
END:VEVENT
BEGIN:VEVENT
DTSTART;TZID=America/New_York:20300312T160000
DTEND;TZID=America/New_York:20300312T180000
DTSTAMP:20260421T041915
CREATED:20260304T211050Z
LAST-MODIFIED:20260304T211050Z
UID:10003125-1899561600-1899568800@westfordcat.org
SUMMARY:Video Club
DESCRIPTION:Once a week\, Video Club gives high school members the tools\, freedom\, and guidance to create original content from start to finish. Club members will have access to our studio\, podcasting suite\, and experienced staff to support their personal projects. No experience is needed\, just bring your ideas! Members can work independently or as a team to script\, shoot\, edit\, and share videos they’re proud of. If you have a vision\, this is the place to make it happen.
URL:https://westfordcat.org/event/video-club/2030-03-12/
LOCATION:WestfordCAT\, 487 Groton Rd\, Unit B\, Westford\, MA\, 01886\, United States
END:VEVENT
BEGIN:VEVENT
DTSTART;TZID=America/New_York:20300319T160000
DTEND;TZID=America/New_York:20300319T180000
DTSTAMP:20260421T041915
CREATED:20260304T211050Z
LAST-MODIFIED:20260304T211050Z
UID:10003126-1900166400-1900173600@westfordcat.org
SUMMARY:Video Club
DESCRIPTION:Once a week\, Video Club gives high school members the tools\, freedom\, and guidance to create original content from start to finish. Club members will have access to our studio\, podcasting suite\, and experienced staff to support their personal projects. No experience is needed\, just bring your ideas! Members can work independently or as a team to script\, shoot\, edit\, and share videos they’re proud of. If you have a vision\, this is the place to make it happen.
URL:https://westfordcat.org/event/video-club/2030-03-19/
LOCATION:WestfordCAT\, 487 Groton Rd\, Unit B\, Westford\, MA\, 01886\, United States
END:VEVENT
BEGIN:VEVENT
DTSTART;TZID=America/New_York:20300326T160000
DTEND;TZID=America/New_York:20300326T180000
DTSTAMP:20260421T041915
CREATED:20260304T211050Z
LAST-MODIFIED:20260304T211050Z
UID:10003127-1900771200-1900778400@westfordcat.org
SUMMARY:Video Club
DESCRIPTION:Once a week\, Video Club gives high school members the tools\, freedom\, and guidance to create original content from start to finish. Club members will have access to our studio\, podcasting suite\, and experienced staff to support their personal projects. No experience is needed\, just bring your ideas! Members can work independently or as a team to script\, shoot\, edit\, and share videos they’re proud of. If you have a vision\, this is the place to make it happen.
URL:https://westfordcat.org/event/video-club/2030-03-26/
LOCATION:WestfordCAT\, 487 Groton Rd\, Unit B\, Westford\, MA\, 01886\, United States
END:VEVENT
BEGIN:VEVENT
DTSTART;TZID=America/New_York:20300402T160000
DTEND;TZID=America/New_York:20300402T180000
DTSTAMP:20260421T041915
CREATED:20260304T211050Z
LAST-MODIFIED:20260304T211050Z
UID:10003128-1901376000-1901383200@westfordcat.org
SUMMARY:Video Club
DESCRIPTION:Once a week\, Video Club gives high school members the tools\, freedom\, and guidance to create original content from start to finish. Club members will have access to our studio\, podcasting suite\, and experienced staff to support their personal projects. No experience is needed\, just bring your ideas! Members can work independently or as a team to script\, shoot\, edit\, and share videos they’re proud of. If you have a vision\, this is the place to make it happen.
URL:https://westfordcat.org/event/video-club/2030-04-02/
LOCATION:WestfordCAT\, 487 Groton Rd\, Unit B\, Westford\, MA\, 01886\, United States
END:VEVENT
BEGIN:VEVENT
DTSTART;TZID=America/New_York:20300409T160000
DTEND;TZID=America/New_York:20300409T180000
DTSTAMP:20260421T041915
CREATED:20260304T211050Z
LAST-MODIFIED:20260304T211050Z
UID:10003129-1901980800-1901988000@westfordcat.org
SUMMARY:Video Club
DESCRIPTION:Once a week\, Video Club gives high school members the tools\, freedom\, and guidance to create original content from start to finish. Club members will have access to our studio\, podcasting suite\, and experienced staff to support their personal projects. No experience is needed\, just bring your ideas! Members can work independently or as a team to script\, shoot\, edit\, and share videos they’re proud of. If you have a vision\, this is the place to make it happen.
URL:https://westfordcat.org/event/video-club/2030-04-09/
LOCATION:WestfordCAT\, 487 Groton Rd\, Unit B\, Westford\, MA\, 01886\, United States
END:VEVENT
BEGIN:VEVENT
DTSTART;TZID=America/New_York:20300416T160000
DTEND;TZID=America/New_York:20300416T180000
DTSTAMP:20260421T041915
CREATED:20260304T211050Z
LAST-MODIFIED:20260304T211050Z
UID:10003130-1902585600-1902592800@westfordcat.org
SUMMARY:Video Club
DESCRIPTION:Once a week\, Video Club gives high school members the tools\, freedom\, and guidance to create original content from start to finish. Club members will have access to our studio\, podcasting suite\, and experienced staff to support their personal projects. No experience is needed\, just bring your ideas! Members can work independently or as a team to script\, shoot\, edit\, and share videos they’re proud of. If you have a vision\, this is the place to make it happen.
URL:https://westfordcat.org/event/video-club/2030-04-16/
LOCATION:WestfordCAT\, 487 Groton Rd\, Unit B\, Westford\, MA\, 01886\, United States
END:VEVENT
BEGIN:VEVENT
DTSTART;TZID=America/New_York:20300423T160000
DTEND;TZID=America/New_York:20300423T180000
DTSTAMP:20260421T041915
CREATED:20260304T211050Z
LAST-MODIFIED:20260304T211050Z
UID:10003131-1903190400-1903197600@westfordcat.org
SUMMARY:Video Club
DESCRIPTION:Once a week\, Video Club gives high school members the tools\, freedom\, and guidance to create original content from start to finish. Club members will have access to our studio\, podcasting suite\, and experienced staff to support their personal projects. No experience is needed\, just bring your ideas! Members can work independently or as a team to script\, shoot\, edit\, and share videos they’re proud of. If you have a vision\, this is the place to make it happen.
URL:https://westfordcat.org/event/video-club/2030-04-23/
LOCATION:WestfordCAT\, 487 Groton Rd\, Unit B\, Westford\, MA\, 01886\, United States
END:VEVENT
BEGIN:VEVENT
DTSTART;TZID=America/New_York:20300430T160000
DTEND;TZID=America/New_York:20300430T180000
DTSTAMP:20260421T041915
CREATED:20260304T211050Z
LAST-MODIFIED:20260304T211050Z
UID:10003132-1903795200-1903802400@westfordcat.org
SUMMARY:Video Club
DESCRIPTION:Once a week\, Video Club gives high school members the tools\, freedom\, and guidance to create original content from start to finish. Club members will have access to our studio\, podcasting suite\, and experienced staff to support their personal projects. No experience is needed\, just bring your ideas! Members can work independently or as a team to script\, shoot\, edit\, and share videos they’re proud of. If you have a vision\, this is the place to make it happen.
URL:https://westfordcat.org/event/video-club/2030-04-30/
LOCATION:WestfordCAT\, 487 Groton Rd\, Unit B\, Westford\, MA\, 01886\, United States
END:VEVENT
BEGIN:VEVENT
DTSTART;TZID=America/New_York:20300507T160000
DTEND;TZID=America/New_York:20300507T180000
DTSTAMP:20260421T041915
CREATED:20260304T211050Z
LAST-MODIFIED:20260304T211050Z
UID:10003133-1904400000-1904407200@westfordcat.org
SUMMARY:Video Club
DESCRIPTION:Once a week\, Video Club gives high school members the tools\, freedom\, and guidance to create original content from start to finish. Club members will have access to our studio\, podcasting suite\, and experienced staff to support their personal projects. No experience is needed\, just bring your ideas! Members can work independently or as a team to script\, shoot\, edit\, and share videos they’re proud of. If you have a vision\, this is the place to make it happen.
URL:https://westfordcat.org/event/video-club/2030-05-07/
LOCATION:WestfordCAT\, 487 Groton Rd\, Unit B\, Westford\, MA\, 01886\, United States
END:VEVENT
END:VCALENDAR